BEGIN:VCALENDAR
VERSION:2.0
PRODID:-//Lucky Bar + Kitchen Whanganui  - ECPv4.6.26.1//NONSGML v1.0//EN
CALSCALE:GREGORIAN
METHOD:PUBLISH
X-WR-CALNAME:Lucky Bar + Kitchen Whanganui 
X-ORIGINAL-URL:http://luckybar.nz
X-WR-CALDESC:Events for Lucky Bar + Kitchen Whanganui 
BEGIN:VEVENT
DTSTART;TZID=UTC+0:20181205T180000
DTEND;TZID=UTC+0:20181205T200000
DTSTAMP:20210120T120225
CREATED:20181202T011743Z
LAST-MODIFIED:20181202T022525Z
UID:73-1544032800-1544040000@luckybar.nz
SUMMARY:Sharpen up yr Shuffle + Wednesday Dinner Deals
DESCRIPTION:This is the night where we invite a special guest down to play their current favourite tunes. If nothing else is certain in life – Wednesdays – every one\, Lucky will be serving up $10 taco’s and pasta and playing someones favourite tunes. \n
URL:http://luckybar.nz/event/sharper-up-yr-shuffle-wednesday-dinner-deals/
END:VEVENT
END:VCALENDAR