BEGIN:VCALENDAR
VERSION:2.0
PRODID:-//Lucky Bar + Kitchen Whanganui  - ECPv4.6.26.1//NONSGML v1.0//EN
CALSCALE:GREGORIAN
METHOD:PUBLISH
X-WR-CALNAME:Lucky Bar + Kitchen Whanganui 
X-ORIGINAL-URL:http://luckybar.nz
X-WR-CALDESC:Events for Lucky Bar + Kitchen Whanganui 
BEGIN:VEVENT
DTSTART;TZID=UTC+0:20181207T190000
DTEND;TZID=UTC+0:20181207T230000
DTSTAMP:20210120T120238
CREATED:20181202T013824Z
LAST-MODIFIED:20181202T013824Z
UID:83-1544209200-1544223600@luckybar.nz
SUMMARY:Whanganui Jazz Club at Lucky
DESCRIPTION:Whanganui Jazz Club presents Mark Lockhart\, Umar Zakaria and Brad Kang. \n
URL:http://luckybar.nz/event/whanganui-jazz-club-at-lucky/
CATEGORIES:Jazz
ATTACH;FMTTYPE=image/jpeg:http://luckybar.nz/wp-content/uploads/2018/12/wjazz.jpg
END:VEVENT
END:VCALENDAR